View In:
ArcGIS JavaScript
ArcGIS Online Map Viewer
ArcGIS Earth
Service Description: Imagery/Indian_Soil_Erodibility
Name: Imagery/Indian_Soil_Erodibility
Description:
Single Fused Map Cache: false
Extent:
XMin: 68.18624899229724
YMin: 8.079124026564713
XMax: 97.41518254938603
YMax: 37.076741397900584
Spatial Reference: 4326
(4326)
LatestVCSWkid(0)
Initial Extent:
XMin: 68.18624899229724
YMin: 8.079124026564713
XMax: 97.41518254938603
YMax: 37.076741397900584
Spatial Reference: 4326
(4326)
LatestVCSWkid(0)
Full Extent:
XMin: 68.18624899229724
YMin: 8.079124026564713
XMax: 97.41518254938603
YMax: 37.076741397900584
Spatial Reference: 4326
(4326)
LatestVCSWkid(0)
Pixel Size X: 0.002245788210302635
Pixel Size Y: 0.002245788210295529
Band Count: 1
Pixel Type: F32
RasterFunction Infos: {"rasterFunctionInfos": [{
"name": "None",
"description": "",
"help": ""
}]}
Mensuration Capabilities: Basic
Inspection Capabilities:
Has Histograms: true
Has Colormap: false
Has Multi Dimensions : false
Rendering Rule:
Min Scale: 0
Max Scale: 0
Resampling: false
Copyright Text:
Service Data Type: esriImageServiceDataTypeGeneric
Min Values: 1.2752511935332222E-8
Max Values: 0.11941917985677719
Mean Values: 0.02813427748278812
Standard Deviation Values: 0.007812830105969002
Object ID Field:
Fields:
None
Default Mosaic Method: Center
Allowed Mosaic Methods:
SortField:
SortValue: null
Mosaic Operator: First
Default Compression Quality: 75
Default Resampling Method: Bilinear
Max Record Count: null
Max Image Height: 4100
Max Image Width: 15000
Max Download Image Count: null
Max Mosaic Image Count: null
Allow Raster Function: false
Allow Copy: true
Allow Analysis: true
Allow Compute TiePoints: false
Supports Statistics: false
Supports Advanced Queries: false
Use StandardizedQueries: true
Raster Type Infos:
Name: Raster Dataset
Description: Supports all ArcGIS Raster Datasets
Help:
Has Raster Attribute Table: true
Edit Fields Info: null
Ownership Based AccessControl For Rasters: null
Child Resources:
Info
Raster Attribute Table
Histograms
Statistics
Key Properties
Legend
Raster Function Infos
Supported Operations:
Export Image
Identify
Measure
Compute Histograms
Compute Statistics Histograms
Get Samples
Compute Class Statistics
Query Boundary
Compute Pixel Location
Compute Angles
Validate
Project