{
 "currentVersion": 11.3,
 "serviceDescription": "Imagery/Indian_Soil_Erodibility",
 "name": "Imagery/Indian_Soil_Erodibility",
 "description": "",
 "extent": {
  "xmin": 68.18624899229724,
  "ymin": 8.079124026564713,
  "xmax": 97.41518254938603,
  "ymax": 37.076741397900584,
  "spatialReference": {
   "wkid": 4326,
   "latestWkid": 4326
  }
 },
 "initialExtent": {
  "xmin": 68.18624899229724,
  "ymin": 8.079124026564713,
  "xmax": 97.41518254938603,
  "ymax": 37.076741397900584,
  "spatialReference": {
   "wkid": 4326,
   "latestWkid": 4326
  }
 },
 "fullExtent": {
  "xmin": 68.18624899229724,
  "ymin": 8.079124026564713,
  "xmax": 97.41518254938603,
  "ymax": 37.076741397900584,
  "spatialReference": {
   "wkid": 4326,
   "latestWkid": 4326
  }
 },
 "sortableFields": "",
 "bandCount": 1,
 "pixelType": "F32",
 "minValues": [
  1.2752511935332222E-8
 ],
 "maxValues": [
  0.11941917985677719
 ],
 "meanValues": [
  0.02813427748278812
 ],
 "stdvValues": [
  0.007812830105969002
 ],
 "hasMultidimensions": false,
 "pixelSizeX": 0.002245788210302635,
 "pixelSizeY": 0.002245788210295529,
 "meanPixelSize": 250.000000000031,
 "datasetFormat": "SDR",
 "uncompressedSize": 672198720,
 "blockWidth": 128,
 "blockHeight": 128,
 "compressionType": "NONE",
 "bandNames": [
  "Band_1"
 ],
 "allowCopy": true,
 "allowAnalysis": true,
 "itemAccess": false,
 "inspectionCapabilities": "",
 "minPixelSize": 0,
 "maxPixelSize": 0,
 "copyrightText": "",
 "serviceDataType": "esriImageServiceDataTypeGeneric",
 "serviceSourceType": "esriImageServiceSourceTypeDataset",
 "objectIdField": "",
 "fields": [],
 "capabilities": "Mensuration,Image,Metadata",
 "defaultMosaicMethod": "Center",
 "allowedMosaicMethods": "",
 "sortField": "",
 "sortValue": null,
 "sortAscending": true,
 "mosaicOperator": "First",
 "defaultCompressionQuality": 75,
 "defaultResamplingMethod": "Bilinear",
 "maxImageHeight": 4100,
 "maxImageWidth": 15000,
 "allowRasterFunction": false,
 "rasterFunctionInfos": [
  {
   "name": "None",
   "description": "",
   "help": ""
  }
 ],
 "rasterTypeInfos": [
  {
   "name": "Raster Dataset",
   "description": "Supports all ArcGIS Raster Datasets",
   "help": ""
  }
 ],
 "mensurationCapabilities": "Basic",
 "hasHistograms": true,
 "hasColormap": false,
 "hasRasterAttributeTable": true,
 "minScale": 0,
 "maxScale": 0,
 "exportTilesAllowed": false,
 "supportsStatistics": false,
 "supportsAdvancedQueries": false,
 "editFieldsInfo": null,
 "ownershipBasedAccessControlForRasters": null,
 "allowComputeTiePoints": false,
 "useStandardizedQueries": true,
 "advancedQueryCapabilities": {
  "useStandardizedQueries": true,
  "supportsStatistics": false,
  "supportsOrderBy": false,
  "supportsDistinct": false,
  "supportsPagination": false
 },
 "spatialReference": {
  "wkid": 4326,
  "latestWkid": 4326
 },
 "resampling": false
}
