View In:
ArcGIS JavaScript
ArcGIS Online Map Viewer
ArcGIS Earth
Service Description: Imagery/Indian_Water_Erosion_Dataset
Name: Imagery/Indian_Water_Erosion_Dataset
Description:
Single Fused Map Cache: false
Extent:
XMin: 68.22000000000001
YMin: 8.07912402701308
XMax: 97.37931412238488
YMax: 37.020596693
Spatial Reference: 4326
(4326)
LatestVCSWkid(0)
Initial Extent:
XMin: 68.22000000000001
YMin: 8.07912402701308
XMax: 97.37931412238488
YMax: 37.020596693
Spatial Reference: 4326
(4326)
LatestVCSWkid(0)
Full Extent:
XMin: 68.22000000000001
YMin: 8.07912402701308
XMax: 97.37931412238488
YMax: 37.020596693
Spatial Reference: 4326
(4326)
LatestVCSWkid(0)
Pixel Size X: 0.002245788210288422
Pixel Size Y: 0.002245788210288424
Band Count: 1
Pixel Type: F32
RasterFunction Infos: {"rasterFunctionInfos": [{
"name": "None",
"description": "",
"help": ""
}]}
Mensuration Capabilities: Basic
Inspection Capabilities:
Has Histograms: true
Has Colormap: false
Has Multi Dimensions : false
Rendering Rule:
Min Scale: 0
Max Scale: 0
Copyright Text:
Service Data Type: esriImageServiceDataTypeGeneric
Min Values: 0
Max Values: 6
Mean Values: 2.114983943925619
Standard Deviation Values: 1.4621603199260673
Object ID Field:
Fields:
None
Default Mosaic Method: Center
Allowed Mosaic Methods:
SortField:
SortValue: null
Mosaic Operator: First
Default Compression Quality: 75
Default Resampling Method: Bilinear
Max Record Count: null
Max Image Height: 4100
Max Image Width: 15000
Max Download Image Count: null
Max Mosaic Image Count: null
Allow Raster Function: true
Allow Copy: true
Allow Analysis: true
Allow Compute TiePoints: false
Supports Statistics: false
Supports Advanced Queries: false
Use StandardizedQueries: true
Raster Type Infos:
Name: Raster Dataset
Description: Supports all ArcGIS Raster Datasets
Help:
Has Raster Attribute Table: false
Edit Fields Info: null
Ownership Based AccessControl For Rasters: null
Child Resources:
Info
Histograms
Statistics
Key Properties
Legend
Raster Function Infos
Supported Operations:
Export Image
Identify
Measure
Compute Histograms
Compute Statistics Histograms
Get Samples
Compute Class Statistics
Query Boundary
Compute Pixel Location
Compute Angles
Validate
Project