View In:
ArcGIS JavaScript
ArcGIS Online Map Viewer
ArcGIS Earth
Service Description: Imagery/IRED
Name: Imagery/IRED
Description:
Single Fused Map Cache: false
Extent:
XMin: 68.22
YMin: 6.780000000000655
XMax: 97.3800000000011
YMax: 37.02
Spatial Reference: 4326
(4326)
LatestVCSWkid(0)
Initial Extent:
XMin: 68.22
YMin: 6.780000000000655
XMax: 97.3800000000011
YMax: 37.02
Spatial Reference: 4326
(4326)
LatestVCSWkid(0)
Full Extent:
XMin: 68.22
YMin: 6.780000000000655
XMax: 97.3800000000011
YMax: 37.02
Spatial Reference: 4326
(4326)
LatestVCSWkid(0)
Pixel Size X: 0.12000000000000455
Pixel Size Y: 0.11999999999999741
Band Count: 1
Pixel Type: F32
RasterFunction Infos: {"rasterFunctionInfos": [{
"name": "None",
"description": "",
"help": ""
}]}
Mensuration Capabilities: Basic
Inspection Capabilities:
Has Histograms: true
Has Colormap: false
Has Multi Dimensions : false
Rendering Rule:
Min Scale: 0
Max Scale: 0
Copyright Text:
Service Data Type: esriImageServiceDataTypeGeneric
Min Values: 8.102192878723145
Max Values: 23909.203125
Mean Values: 1223.8902490864978
Standard Deviation Values: 1815.6346493802469
Object ID Field:
Fields:
None
Default Mosaic Method: Center
Allowed Mosaic Methods:
SortField:
SortValue: null
Mosaic Operator: First
Default Compression Quality: 75
Default Resampling Method: Bilinear
Max Record Count: null
Max Image Height: 4100
Max Image Width: 15000
Max Download Image Count: null
Max Mosaic Image Count: null
Allow Raster Function: true
Allow Copy: true
Allow Analysis: true
Allow Compute TiePoints: false
Supports Statistics: false
Supports Advanced Queries: false
Use StandardizedQueries: true
Raster Type Infos:
Name: Raster Dataset
Description: Supports all ArcGIS Raster Datasets
Help:
Has Raster Attribute Table: false
Edit Fields Info: null
Ownership Based AccessControl For Rasters: null
Child Resources:
Info
Histograms
Statistics
Key Properties
Legend
Raster Function Infos
Supported Operations:
Export Image
Identify
Measure
Compute Histograms
Compute Statistics Histograms
Get Samples
Compute Class Statistics
Query Boundary
Compute Pixel Location
Compute Angles
Validate
Project