View In:
ArcGIS JavaScript
ArcGIS Online Map Viewer
ArcGIS Earth
Service Description: imagery_sde_LULC2022
Name: imagery_sde_LULC2022
Description:
Single Fused Map Cache: false
Extent:
XMin: 7590262.005020439
YMin: 753840.0000000019
XMax: 1.084396200502044E7
YMax: 4451440.000000002
Spatial Reference: 102100
(3857)
LatestVCSWkid(0)
Initial Extent:
XMin: 7590262.005020439
YMin: 753840.0000000019
XMax: 1.084396200502044E7
YMax: 4451440.000000002
Spatial Reference: 102100
(3857)
LatestVCSWkid(0)
Full Extent:
XMin: 7590262.005020439
YMin: 753840.0000000019
XMax: 1.084396200502044E7
YMax: 4451440.000000002
Spatial Reference: 102100
(3857)
LatestVCSWkid(0)
Pixel Size X: 10.000000000000004
Pixel Size Y: 10.0
Band Count: 1
Pixel Type: U8
RasterFunction Infos: {"rasterFunctionInfos": [
{
"name": "Sen2lulc",
"description": "classification Scheme",
"help": ""
},
{
"name": "None",
"description": "",
"help": ""
}
]}
Mensuration Capabilities: Basic
Inspection Capabilities:
Has Histograms: true
Has Colormap: false
Has Multi Dimensions : false
Rendering Rule:
Min Scale: 0
Max Scale: 0
Copyright Text:
Service Data Type: esriImageServiceDataTypeGeneric
Min Values: 1
Max Values: 11
Mean Values: 5.996544293245683
Standard Deviation Values: 3.0918055364441797
Object ID Field:
Fields:
None
Default Mosaic Method: Center
Allowed Mosaic Methods:
SortField:
SortValue: null
Mosaic Operator: First
Default Compression Quality: 75
Default Resampling Method: Nearest
Max Record Count: null
Max Image Height: 4100
Max Image Width: 15000
Max Download Image Count: null
Max Mosaic Image Count: null
Allow Raster Function: true
Allow Copy: true
Allow Analysis: true
Allow Compute TiePoints: false
Supports Statistics: false
Supports Advanced Queries: false
Use StandardizedQueries: true
Raster Type Infos:
Name: Raster Dataset
Description: Supports all ArcGIS Raster Datasets
Help:
Has Raster Attribute Table: true
Edit Fields Info: null
Ownership Based AccessControl For Rasters: null
Child Resources:
Info
Raster Attribute Table
Histograms
Statistics
Key Properties
Legend
Raster Function Infos
Supported Operations:
Export Image
Identify
Measure
Compute Histograms
Compute Statistics Histograms
Get Samples
Compute Class Statistics
Query Boundary
Compute Pixel Location
Compute Angles
Validate
Project