View In:
ArcGIS JavaScript
ArcGIS Online Map Viewer
ArcGIS Earth
Service Description: Imagery/LULC25
Name: Imagery/LULC25
Description:
Single Fused Map Cache: false
Extent:
XMin: 7590270.778352496
YMin: 753846.141085376
XMax: 1.0843960778352495E7
YMax: 4451436.141085376
Spatial Reference: 102100
(3857)
LatestVCSWkid(0)
Initial Extent:
XMin: 7590270.778352496
YMin: 753846.141085376
XMax: 1.0843960778352495E7
YMax: 4451436.141085376
Spatial Reference: 102100
(3857)
LatestVCSWkid(0)
Full Extent:
XMin: 7590270.778352496
YMin: 753846.141085376
XMax: 1.0843960778352495E7
YMax: 4451436.141085376
Spatial Reference: 102100
(3857)
LatestVCSWkid(0)
Pixel Size X: 9.999999999999996
Pixel Size Y: 10.0
Band Count: 1
Pixel Type: U8
RasterFunction Infos: {"rasterFunctionInfos": [
{
"name": "LULC",
"description": "Sentinel LULC ",
"help": ""
},
{
"name": "None",
"description": "",
"help": ""
}
]}
Mensuration Capabilities: Basic
Inspection Capabilities:
Has Histograms: false
Has Colormap: true
Has Multi Dimensions : false
Rendering Rule:
Min Scale: 0
Max Scale: 0
Copyright Text:
Service Data Type: esriImageServiceDataTypeGeneric
Min Values: N/A
Max Values: N/A
Mean Values: N/A
Standard Deviation Values: N/A
Object ID Field:
Fields:
None
Default Mosaic Method: Center
Allowed Mosaic Methods:
SortField:
SortValue: null
Mosaic Operator: First
Default Compression Quality: 75
Default Resampling Method: Bilinear
Max Record Count: null
Max Image Height: 4100
Max Image Width: 15000
Max Download Image Count: null
Max Mosaic Image Count: null
Allow Raster Function: true
Allow Copy: true
Allow Analysis: true
Allow Compute TiePoints: false
Supports Statistics: false
Supports Advanced Queries: false
Use StandardizedQueries: true
Raster Type Infos:
Name: Raster Dataset
Description: Supports all ArcGIS Raster Datasets
Help:
Has Raster Attribute Table: true
Edit Fields Info: null
Ownership Based AccessControl For Rasters: null
Child Resources:
Info
Raster Attribute Table
Statistics
Key Properties
Color Map
Legend
Raster Function Infos
Supported Operations:
Export Image
Identify
Measure
Compute Histograms
Compute Statistics Histograms
Get Samples
Compute Class Statistics
Query Boundary
Compute Pixel Location
Compute Angles
Validate
Project