View In:
ArcGIS JavaScript
ArcGIS Online Map Viewer
ArcGIS Earth
Service Description: Imagery/IN_SRTM_DEM_30M
Name: Imagery/IN_SRTM_DEM_30M
Description:
Single Fused Map Cache: false
Extent:
XMin: 7590427.707022062
YMin: 753809.4037036952
XMax: 1.084423941470128E7
YMax: 4450050.454731441
Spatial Reference: 102100
(3857)
LatestVCSWkid(0)
Initial Extent:
XMin: 7590427.707022062
YMin: 753809.4037036952
XMax: 1.084423941470128E7
YMax: 4450050.454731441
Spatial Reference: 102100
(3857)
LatestVCSWkid(0)
Full Extent:
XMin: 7590427.707022062
YMin: 753809.4037036952
XMax: 1.084423941470128E7
YMax: 4450050.454731441
Spatial Reference: 102100
(3857)
LatestVCSWkid(0)
Pixel Size X: 32.35788366477936
Pixel Size Y: 32.35788366477936
Band Count: 1
Pixel Type: S16
RasterFunction Infos: {"rasterFunctionInfos": [{
"name": "None",
"description": "",
"help": ""
}]}
Mensuration Capabilities: Basic
Inspection Capabilities:
Has Histograms: true
Has Colormap: false
Has Multi Dimensions : false
Rendering Rule:
Min Scale: 0
Max Scale: 0
Resampling: false
Copyright Text:
Service Data Type: esriImageServiceDataTypeGeneric
Min Values: -443
Max Values: 8564
Mean Values: 774.1319704686914
Standard Deviation Values: 1298.9990784216136
Object ID Field:
Fields:
None
Default Mosaic Method: Center
Allowed Mosaic Methods:
SortField:
SortValue: null
Mosaic Operator: First
Default Compression Quality: 75
Default Resampling Method: Bilinear
Max Record Count: null
Max Image Height: 4100
Max Image Width: 15000
Max Download Image Count: null
Max Mosaic Image Count: null
Allow Raster Function: true
Allow Copy: true
Allow Analysis: true
Allow Compute TiePoints: false
Supports Statistics: false
Supports Advanced Queries: false
Use StandardizedQueries: true
Raster Type Infos:
Name: Raster Dataset
Description: Supports all ArcGIS Raster Datasets
Help:
Has Raster Attribute Table: false
Edit Fields Info: null
Ownership Based AccessControl For Rasters: null
Child Resources:
Info
Histograms
Statistics
Key Properties
Legend
Raster Function Infos
Supported Operations:
Export Image
Identify
Measure
Compute Histograms
Compute Statistics Histograms
Get Samples
Compute Class Statistics
Query Boundary
Compute Pixel Location
Compute Angles
Validate
Project