{
 "currentVersion": 11.3,
 "serviceDescription": "Imagery/IN_S2_LULC_23",
 "name": "Imagery/IN_S2_LULC_23",
 "description": "",
 "extent": {
  "xmin": 923490,
  "ymin": 761560,
  "xmax": 4875080,
  "ymax": 4859230,
  "spatialReference": {
   "wkid": 32641,
   "latestWkid": 32641
  }
 },
 "initialExtent": {
  "xmin": 923490,
  "ymin": 761560,
  "xmax": 4875080,
  "ymax": 4859230,
  "spatialReference": {
   "wkid": 32641,
   "latestWkid": 32641
  }
 },
 "fullExtent": {
  "xmin": 923490,
  "ymin": 761560,
  "xmax": 4875080,
  "ymax": 4859230,
  "spatialReference": {
   "wkid": 32641,
   "latestWkid": 32641
  }
 },
 "sortableFields": "",
 "bandCount": 1,
 "pixelType": "U8",
 "minValues": [
  1
 ],
 "maxValues": [
  11
 ],
 "meanValues": [
  5.813191997734176
 ],
 "stdvValues": [
  3.0456425389002337
 ],
 "hasMultidimensions": false,
 "pixelSizeX": 10,
 "pixelSizeY": 10,
 "meanPixelSize": 10,
 "datasetFormat": "SDR",
 "uncompressedSize": 161923117953,
 "blockWidth": 128,
 "blockHeight": 128,
 "compressionType": "NONE",
 "bandNames": [
  "Band_1"
 ],
 "allowCopy": true,
 "allowAnalysis": true,
 "itemAccess": false,
 "inspectionCapabilities": "",
 "minPixelSize": 0,
 "maxPixelSize": 0,
 "copyrightText": "",
 "serviceDataType": "esriImageServiceDataTypeThematic",
 "serviceSourceType": "esriImageServiceSourceTypeDataset",
 "objectIdField": "",
 "fields": [],
 "capabilities": "Image,Metadata,Mensuration",
 "defaultMosaicMethod": "Center",
 "allowedMosaicMethods": "",
 "sortField": "",
 "sortValue": null,
 "sortAscending": true,
 "mosaicOperator": "First",
 "defaultCompressionQuality": 75,
 "defaultResamplingMethod": "Bilinear",
 "maxImageHeight": 4100,
 "maxImageWidth": 15000,
 "allowRasterFunction": true,
 "rasterFunctionInfos": [
  {
   "name": "Sen2lulc",
   "description": "classification Scheme",
   "help": ""
  },
  {
   "name": "None",
   "description": "",
   "help": ""
  }
 ],
 "rasterTypeInfos": [
  {
   "name": "Raster Dataset",
   "description": "Supports all ArcGIS Raster Datasets",
   "help": ""
  }
 ],
 "mensurationCapabilities": "Basic",
 "hasHistograms": true,
 "hasColormap": true,
 "hasRasterAttributeTable": true,
 "minScale": 0,
 "maxScale": 0,
 "exportTilesAllowed": false,
 "supportsStatistics": false,
 "supportsAdvancedQueries": false,
 "editFieldsInfo": null,
 "ownershipBasedAccessControlForRasters": null,
 "allowComputeTiePoints": false,
 "useStandardizedQueries": true,
 "advancedQueryCapabilities": {
  "useStandardizedQueries": true,
  "supportsStatistics": false,
  "supportsOrderBy": false,
  "supportsDistinct": false,
  "supportsPagination": false
 },
 "spatialReference": {
  "wkid": 32641,
  "latestWkid": 32641
 }
}
